Workbook

Sheet Eingabe
A1: Anmeldung von Schülergeräten für die Nutzung des Schulnetzwerkes
A3: Ablauf Klasse und Daten der Geräte bitte vollständig in die gelben Felder eintragen. Seien Sie besonders sorgfältig beim Eintrag der WLAN-MAC-Adresse. Tragen Sie diese Zeichen für Zeichen ein. Bei Umlauten in den Nachnamen: Bitte ändern auf au, ou, ss usw. Wenn alle Schülerinnen und Schüler, die einen Zugang wünschen, eingetragen sind, sendet die Klassenlehrkraft die Datei an den IT-Service. Wichtig: Achten Sie bei Ihren Geräten bitte darauf, dass die SuS die Option „Private WLAN-Adresse“ (oder ähnliche Einstellung) beim WLAN-Netz „HBS-ucs“ deaktivieren. Ansonsten wechselt das Gerät ständig die MAC-Adressen und die SuS haben keinen Zugriff auf das WLAN.
G5: Weitere Informationen in der Infothek
A6: Klasse:
A8: Mit dem Eintrag in diese Liste bestätigen Sie, dass Sie Ihr Gerät nur für unterrichtliche Zwecke im Netzwerk der Heinrich-Büssing-Schule einsetzen.
D10: Wählen Sie aus der Drop-Down-Liste aus!
A11: lfd. Nummer | B11: Nachname | C11: Vorname | D11: Geräteart | E11: Betriebssystem | F11: WLAN-MAC-Adresse | W11: Datum
A12: Beispiel: | B12: Mustermann | C12: Frederik | D12: Tablet | E12: iPadOS | F12: A | G12: A | H12: : | I12: B | J12: B | K12: : | L12: C | M12: C | N12: : | O12: 1 | P12: 2 | Q12: : | R12: 3 | S12: 4 | T12: : | U12: 5 | V12: 6 | W12: 45536
A13: 1 | H13: : | K13: : | N13: : | Q13: : | T13: :
A14: 2 | H14: : | K14: : | N14: : | Q14: : | T14: :
A15: 3 | H15: : | K15: : | N15: : | Q15: : | T15: :
A16: 4 | H16: : | K16: : | N16: : | Q16: : | T16: :
A17: 5 | H17: : | K17: : | N17: : | Q17: : | T17: :
A18: 6 | H18: : | K18: : | N18: : | Q18: : | T18: :
A19: 7 | H19: : | K19: : | N19: : | Q19: : | T19: :
A20: 8 | H20: : | K20: : | N20: : | Q20: : | T20: :
A21: 9 | H21: : | K21: : | N21: : | Q21: : | T21: :
A22: 10 | H22: : | K22: : | N22: : | Q22: : | T22: :
A23: 11 | H23: : | K23: : | N23: : | Q23: : | T23: :
A24: 12 | H24: : | K24: : | N24: : | Q24: : | T24: :
... A42: 30 | H42: : | K42: : | N42: : | Q42: : | T42: :
A44: 3. Oktett IPv4 (wird vom IT-Service ausgefüllt): | C44: 1

Sheet Anmeldung_SuS_WLAN
A1: ipmanagedclient | B1: ="WS-"&Eingabe!$B$6&"-"&Eingabe!B13 -> WS-- | C1: =Eingabe!F13&Eingabe!G13&":"&Eingabe!I13&Eingabe!J13&":"&Eingabe!L13&Eingabe!M13&":"&Eingabe!O13&Eingabe!P13&":"&Eingabe!R13&Eingabe!S13&":"&Eingabe!U13&Eingabe!V13 -> ::::: | D1: HBS | E1: ="10.99."&Eingabe!$C$44&"."&Eingabe!A13&"/255.0.0.0" -> 10.99.1.1/255.0.0.0
A2: ipmanagedclient | B2: ="WS-"&Eingabe!$B$6&"-"&Eingabe!B14 -> WS-- | C2: =Eingabe!F14&Eingabe!G14&":"&Eingabe!I14&Eingabe!J14&":"&Eingabe!L14&Eingabe!M14&":"&Eingabe!O14&Eingabe!P14&":"&Eingabe!R14&Eingabe!S14&":"&Eingabe!U14&Eingabe!V14 -> ::::: | D2: HBS | E2: ="10.99."&Eingabe!$C$44&"."&Eingabe!A14&"/255.0.0.0" -> 10.99.1.2/255.0.0.0
A3: ipmanagedclient | B3: ="WS-"&Eingabe!$B$6&"-"&Eingabe!B15 -> WS-- | C3: =Eingabe!F15&Eingabe!G15&":"&Eingabe!I15&Eingabe!J15&":"&Eingabe!L15&Eingabe!M15&":"&Eingabe!O15&Eingabe!P15&":"&Eingabe!R15&Eingabe!S15&":"&Eingabe!U15&Eingabe!V15 -> ::::: | D3: HBS | E3: ="10.99."&Eingabe!$C$44&"."&Eingabe!A15&"/255.0.0.0" -> 10.99.1.3/255.0.0.0
A4: ipmanagedclient | B4: ="WS-"&Eingabe!$B$6&"-"&Eingabe!B16 -> WS-- | C4: =Eingabe!F16&Eingabe!G16&":"&Eingabe!I16&Eingabe!J16&":"&Eingabe!L16&Eingabe!M16&":"&Eingabe!O16&Eingabe!P16&":"&Eingabe!R16&Eingabe!S16&":"&Eingabe!U16&Eingabe!V16 -> ::::: | D4: HBS | E4: ="10.99."&Eingabe!$C$44&"."&Eingabe!A16&"/255.0.0.0" -> 10.99.1.4/255.0.0.0
A5: ipmanagedclient | B5: ="WS-"&Eingabe!$B$6&"-"&Eingabe!B17 -> WS-- | C5: =Eingabe!F17&Eingabe!G17&":"&Eingabe!I17&Eingabe!J17&":"&Eingabe!L17&Eingabe!M17&":"&Eingabe!O17&Eingabe!P17&":"&Eingabe!R17&Eingabe!S17&":"&Eingabe!U17&Eingabe!V17 -> ::::: | D5: HBS | E5: ="10.99."&Eingabe!$C$44&"."&Eingabe!A17&"/255.0.0.0" -> 10.99.1.5/255.0.0.0
A6: ipmanagedclient | B6: ="WS-"&Eingabe!$B$6&"-"&Eingabe!B18 -> WS-- | C6: =Eingabe!F18&Eingabe!G18&":"&Eingabe!I18&Eingabe!J18&":"&Eingabe!L18&Eingabe!M18&":"&Eingabe!O18&Eingabe!P18&":"&Eingabe!R18&Eingabe!S18&":"&Eingabe!U18&Eingabe!V18 -> ::::: | D6: HBS | E6: ="10.99."&Eingabe!$C$44&"."&Eingabe!A18&"/255.0.0.0" -> 10.99.1.6/255.0.0.0
A7: ipmanagedclient | B7: ="WS-"&Eingabe!$B$6&"-"&Eingabe!B19 -> WS-- | C7: =Eingabe!F19&Eingabe!G19&":"&Eingabe!I19&Eingabe!J19&":"&Eingabe!L19&Eingabe!M19&":"&Eingabe!O19&Eingabe!P19&":"&Eingabe!R19&Eingabe!S19&":"&Eingabe!U19&Eingabe!V19 -> ::::: | D7: HBS | E7: ="10.99."&Eingabe!$C$44&"."&Eingabe!A19&"/255.0.0.0" -> 10.99.1.7/255.0.0.0
A8: ipmanagedclient | B8: ="WS-"&Eingabe!$B$6&"-"&Eingabe!B20 -> WS-- | C8: =Eingabe!F20&Eingabe!G20&":"&Eingabe!I20&Eingabe!J20&":"&Eingabe!L20&Eingabe!M20&":"&Eingabe!O20&Eingabe!P20&":"&Eingabe!R20&Eingabe!S20&":"&Eingabe!U20&Eingabe!V20 -> ::::: | D8: HBS | E8: ="10.99."&Eingabe!$C$44&"."&Eingabe!A20&"/255.0.0.0" -> 10.99.1.8/255.0.0.0
A9: ipmanagedclient | B9: ="WS-"&Eingabe!$B$6&"-"&Eingabe!B21 -> WS-- | C9: =Eingabe!F21&Eingabe!G21&":"&Eingabe!I21&Eingabe!J21&":"&Eingabe!L21&Eingabe!M21&":"&Eingabe!O21&Eingabe!P21&":"&Eingabe!R21&Eingabe!S21&":"&Eingabe!U21&Eingabe!V21 -> ::::: | D9: HBS | E9: ="10.99."&Eingabe!$C$44&"."&Eingabe!A21&"/255.0.0.0" -> 10.99.1.9/255.0.0.0
A10: ipmanagedclient | B10: ="WS-"&Eingabe!$B$6&"-"&Eingabe!B22 -> WS-- | C10: =Eingabe!F22&Eingabe!G22&":"&Eingabe!I22&Eingabe!J22&":"&Eingabe!L22&Eingabe!M22&":"&Eingabe!O22&Eingabe!P22&":"&Eingabe!R22&Eingabe!S22&":"&Eingabe!U22&Eingabe!V22 -> ::::: | D10: HBS | E10: ="10.99."&Eingabe!$C$44&"."&Eingabe!A22&"/255.0.0.0" -> 10.99.1.10/255.0.0.0
A11: ipmanagedclient | B11: ="WS-"&Eingabe!$B$6&"-"&Eingabe!B23 -> WS-- | C11: =Eingabe!F23&Eingabe!G23&":"&Eingabe!I23&Eingabe!J23&":"&Eingabe!L23&Eingabe!M23&":"&Eingabe!O23&Eingabe!P23&":"&Eingabe!R23&Eingabe!S23&":"&Eingabe!U23&Eingabe!V23 -> ::::: | D11: HBS | E11: ="10.99."&Eingabe!$C$44&"."&Eingabe!A23&"/255.0.0.0" -> 10.99.1.11/255.0.0.0
A12: ipmanagedclient | B12: ="WS-"&Eingabe!$B$6&"-"&Eingabe!B24 -> WS-- | C12: =Eingabe!F24&Eingabe!G24&":"&Eingabe!I24&Eingabe!J24&":"&Eingabe!L24&Eingabe!M24&":"&Eingabe!O24&Eingabe!P24&":"&Eingabe!R24&Eingabe!S24&":"&Eingabe!U24&Eingabe!V24 -> ::::: | D12: HBS | E12: ="10.99."&Eingabe!$C$44&"."&Eingabe!A24&"/255.0.0.0" -> 10.99.1.12/255.0.0.0
... A30: ipmanagedclient | B30: ="WS-"&Eingabe!$B$6&"-"&Eingabe!B42 -> WS-- | C30: =Eingabe!F42&Eingabe!G42&":"&Eingabe!I42&Eingabe!J42&":"&Eingabe!L42&Eingabe!M42&":"&Eingabe!O42&Eingabe!P42&":"&Eingabe!R42&Eingabe!S42&":"&Eingabe!U42&Eingabe!V42 -> ::::: | D30: HBS | E30: ="10.99."&Eingabe!$C$44&"."&Eingabe!A42&"/255.0.0.0" -> 10.99.1.30/255.0.0.0

Sheet Daten
A1: Betriebssystem | C1: Geräte | G1: Eingabeüberprüfung Zelle anpassen: =SUMME(--ISTZAHL(SUCHEN(TEIL(e13;ZEILE(INDIREKT("1:"&LÄNGE(e13)));1);"0123456789ABCDEFabcdef")))=LÄNGE(e13)
A2: Windows | C2: Notebook
A3: Linux | C3: Tablet
A4: macOS
A5: ChromeOS
A6: Android
A7: iPadOS
A8: iOS
A9: sonstiges
